BEGIN:VCALENDAR
VERSION:2.0
PRODID:-//WMVO - ECPv6.15.20//NONSGML v1.0//EN
CALSCALE:GREGORIAN
METHOD:PUBLISH
X-WR-CALNAME:WMVO
X-ORIGINAL-URL:https://wmvo.com
X-WR-CALDESC:Events for WMVO
REFRESH-INTERVAL;VALUE=DURATION:PT1H
X-Robots-Tag:noindex
X-PUBLISHED-TTL:PT1H
BEGIN:VTIMEZONE
TZID:America/New_York
BEGIN:DAYLIGHT
TZOFFSETFROM:-0500
TZOFFSETTO:-0400
TZNAME:EDT
DTSTART:20250309T070000
END:DAYLIGHT
BEGIN:STANDARD
TZOFFSETFROM:-0400
TZOFFSETTO:-0500
TZNAME:EST
DTSTART:20251102T060000
END:STANDARD
BEGIN:DAYLIGHT
TZOFFSETFROM:-0500
TZOFFSETTO:-0400
TZNAME:EDT
DTSTART:20260308T070000
END:DAYLIGHT
BEGIN:STANDARD
TZOFFSETFROM:-0400
TZOFFSETTO:-0500
TZNAME:EST
DTSTART:20261101T060000
END:STANDARD
BEGIN:DAYLIGHT
TZOFFSETFROM:-0500
TZOFFSETTO:-0400
TZNAME:EDT
DTSTART:20270314T070000
END:DAYLIGHT
BEGIN:STANDARD
TZOFFSETFROM:-0400
TZOFFSETTO:-0500
TZNAME:EST
DTSTART:20271107T060000
END:STANDARD
END:VTIMEZONE
BEGIN:VEVENT
DTSTART;TZID=America/New_York:20260516T090000
DTEND;TZID=America/New_York:20260516T120000
DTSTAMP:20260421T082935
CREATED:20260331T124237Z
LAST-MODIFIED:20260331T124237Z
UID:881344-1778922000-1778932800@wmvo.com
SUMMARY:Mount Vernon Farmers Market
DESCRIPTION:MOUNT VERNON FARMERS MARKET IS BACK! \nGet ready to kick off your weekends the freshest way possible! The Mount Vernon Farmers Market returns May through October\, taking over the Public Square every Saturday from 9AM to Noon! \nStroll through downtown and discover farm-fresh fruits and veggies\, homemade goodies\, baked treats\, local honey\, artisan crafts\, and so much more—all straight from the hands that made them. \nThere’s nothing like the taste of local\, the vibe of community\, and the joy of supporting your hometown growers and makers. Bring the family\, grab a coffee\, and make it your new Saturday tradition! \nFresh Food\nLocal Flavor\nSmall-Town Charm \nMount Vernon Farmers Market – Saturdays\, May through October\, 9 to Noon at the Public Square. Don’t miss it!
URL:https://wmvo.com/event/mount-vernon-farmers-market-2/
LOCATION:Public Square of Mount Vernon\, Public Square\, Mt Vernon\, OH\, 43050\, United States
ORGANIZER;CN="Mount Vernon Farmers Market":MAILTO:farmersmarketmountvernon@gmail.com
END:VEVENT
BEGIN:VEVENT
DTSTART;TZID=America/New_York:20260516T163000
DTEND;TZID=America/New_York:20260516T173000
DTSTAMP:20260421T082935
CREATED:20260406T144312Z
LAST-MODIFIED:20260406T144312Z
UID:881638-1778949000-1778952600@wmvo.com
SUMMARY:GET READY FOR REVIVAL
DESCRIPTION:GET READY FOR REVIVAL\nHiawatha Park Shelter\nMt. Vernon \, Ohio\nApril 18 and 25th @ 4:30pm\nMay 2nd 10:30 AM\nMay 9th and May 16 @ 4:30\nWeather Permitting
URL:https://wmvo.com/event/get-ready-for-revival-5/
LOCATION:Hiawatha Park Shelter\, 100 Sychar Rd\, Mount Vernon\, OH\, 43050
END:VEVENT
BEGIN:VEVENT
DTSTART;TZID=America/New_York:20260523T090000
DTEND;TZID=America/New_York:20260523T120000
DTSTAMP:20260421T082935
CREATED:20260331T124327Z
LAST-MODIFIED:20260331T124327Z
UID:881346-1779526800-1779537600@wmvo.com
SUMMARY:Mount Vernon Farmers Market
DESCRIPTION:MOUNT VERNON FARMERS MARKET IS BACK! \nGet ready to kick off your weekends the freshest way possible! The Mount Vernon Farmers Market returns May through October\, taking over the Public Square every Saturday from 9AM to Noon! \nStroll through downtown and discover farm-fresh fruits and veggies\, homemade goodies\, baked treats\, local honey\, artisan crafts\, and so much more—all straight from the hands that made them. \nThere’s nothing like the taste of local\, the vibe of community\, and the joy of supporting your hometown growers and makers. Bring the family\, grab a coffee\, and make it your new Saturday tradition! \nFresh Food\nLocal Flavor\nSmall-Town Charm \nMount Vernon Farmers Market – Saturdays\, May through October\, 9 to Noon at the Public Square. Don’t miss it!
URL:https://wmvo.com/event/mount-vernon-farmers-market-3/
LOCATION:Public Square of Mount Vernon\, Public Square\, Mt Vernon\, OH\, 43050\, United States
ORGANIZER;CN="Mount Vernon Farmers Market":MAILTO:farmersmarketmountvernon@gmail.com
END:VEVENT
BEGIN:VEVENT
DTSTART;TZID=America/New_York:20260529T110000
DTEND;TZID=America/New_York:20260531T200000
DTSTAMP:20260421T082935
CREATED:20260331T174124Z
LAST-MODIFIED:20260331T182004Z
UID:881393-1780052400-1780257600@wmvo.com
SUMMARY:Familiarcon
DESCRIPTION:Familiarcon is a three day gaming event to be held at the Glen A. Gallagher Centre in Mt. Vernon\, Ohio! We have events planned larger than anything we’ve ever held in the shop’s playroom\, including a 100 person Magic Sealed Deck Tournament with cash prizes! Beyond the Tournament we will have tables available for Casual Warhammer play throughout the weekend. Magic and Flesh & Blood Tournaments\, Trading Tables\, Play Tables\, and Vendors! We also have planned After Dark events going on at the store! So don’t miss it!\nCheck out our website for more details! https://findfamiliargames.com/familiarcon
URL:https://wmvo.com/event/familiarcon/
LOCATION:The Glenn A. Gallagher Centre\, 1451 Gambier Rd\, Mount Vernon\, OH\, 43050
ORGANIZER;CN="Find Familar Games":MAILTO:findfamiliargames@gmail.com
END:VEVENT
BEGIN:VEVENT
DTSTART;TZID=America/New_York:20260530T090000
DTEND;TZID=America/New_York:20260530T120000
DTSTAMP:20260421T082935
CREATED:20260331T124413Z
LAST-MODIFIED:20260331T124413Z
UID:881348-1780131600-1780142400@wmvo.com
SUMMARY:Mount Vernon Farmers Market
DESCRIPTION:MOUNT VERNON FARMERS MARKET IS BACK! \nGet ready to kick off your weekends the freshest way possible! The Mount Vernon Farmers Market returns May through October\, taking over the Public Square every Saturday from 9AM to Noon! \nStroll through downtown and discover farm-fresh fruits and veggies\, homemade goodies\, baked treats\, local honey\, artisan crafts\, and so much more—all straight from the hands that made them. \nThere’s nothing like the taste of local\, the vibe of community\, and the joy of supporting your hometown growers and makers. Bring the family\, grab a coffee\, and make it your new Saturday tradition! \nFresh Food\nLocal Flavor\nSmall-Town Charm \nMount Vernon Farmers Market – Saturdays\, May through October\, 9 to Noon at the Public Square. Don’t miss it!
URL:https://wmvo.com/event/mount-vernon-farmers-market-4/
LOCATION:Public Square of Mount Vernon\, Public Square\, Mt Vernon\, OH\, 43050\, United States
ORGANIZER;CN="Mount Vernon Farmers Market":MAILTO:farmersmarketmountvernon@gmail.com
END:VEVENT
BEGIN:VEVENT
DTSTART;TZID=America/New_York:20260605T180000
DTEND;TZID=America/New_York:20260605T210000
DTSTAMP:20260421T082935
CREATED:20260331T155216Z
LAST-MODIFIED:20260331T155216Z
UID:881363-1780682400-1780693200@wmvo.com
SUMMARY:June First Friday
DESCRIPTION:Step back into the fabulous 1950s with a rock-and-roll–inspired evening in Downtown Mount Vernon. Expect retro vibes\, classic tunes\, vintage flair\, and plenty of throwback fun as the streets come alive with sock-hop spirit. LIVE MUSIC BY: Project Roundtable
URL:https://wmvo.com/event/june-first-friday/
LOCATION:Downtown Mount Vernon\, Mt Vernon\, 43050\, United States
ORGANIZER;CN="Experience Mount Vernon":MAILTO:director@experiencemv.org
END:VEVENT
BEGIN:VEVENT
DTSTART;TZID=America/New_York:20260606T093000
DTEND;TZID=America/New_York:20260606T120000
DTSTAMP:20260421T082935
CREATED:20260331T124520Z
LAST-MODIFIED:20260331T124520Z
UID:881350-1780738200-1780747200@wmvo.com
SUMMARY:Mount Vernon Farmers Market
DESCRIPTION:MOUNT VERNON FARMERS MARKET IS BACK! \nGet ready to kick off your weekends the freshest way possible! The Mount Vernon Farmers Market returns May through October\, taking over the Public Square every Saturday from 9AM to Noon! \nStroll through downtown and discover farm-fresh fruits and veggies\, homemade goodies\, baked treats\, local honey\, artisan crafts\, and so much more—all straight from the hands that made them. \nThere’s nothing like the taste of local\, the vibe of community\, and the joy of supporting your hometown growers and makers. Bring the family\, grab a coffee\, and make it your new Saturday tradition! \nFresh Food\nLocal Flavor\nSmall-Town Charm \nMount Vernon Farmers Market – Saturdays\, May through October\, 9 to Noon at the Public Square. Don’t miss it!
URL:https://wmvo.com/event/mount-vernon-farmers-market-5/
LOCATION:Public Square of Mount Vernon\, Public Square\, Mt Vernon\, OH\, 43050\, United States
ORGANIZER;CN="Mount Vernon Farmers Market":MAILTO:farmersmarketmountvernon@gmail.com
END:VEVENT
BEGIN:VEVENT
DTSTART;TZID=America/New_York:20260613T090000
DTEND;TZID=America/New_York:20260613T120000
DTSTAMP:20260421T082935
CREATED:20260331T124618Z
LAST-MODIFIED:20260331T124618Z
UID:881352-1781341200-1781352000@wmvo.com
SUMMARY:Mount Vernon Farmers Market
DESCRIPTION:MOUNT VERNON FARMERS MARKET IS BACK! \nGet ready to kick off your weekends the freshest way possible! The Mount Vernon Farmers Market returns May through October\, taking over the Public Square every Saturday from 9AM to Noon! \nStroll through downtown and discover farm-fresh fruits and veggies\, homemade goodies\, baked treats\, local honey\, artisan crafts\, and so much more—all straight from the hands that made them. \nThere’s nothing like the taste of local\, the vibe of community\, and the joy of supporting your hometown growers and makers. Bring the family\, grab a coffee\, and make it your new Saturday tradition! \nFresh Food\nLocal Flavor\nSmall-Town Charm \nMount Vernon Farmers Market – Saturdays\, May through October\, 9 to Noon at the Public Square. Don’t miss it!
URL:https://wmvo.com/event/mount-vernon-farmers-market-6/
LOCATION:Public Square of Mount Vernon\, Public Square\, Mt Vernon\, OH\, 43050\, United States
ORGANIZER;CN="Mount Vernon Farmers Market":MAILTO:farmersmarketmountvernon@gmail.com
END:VEVENT
BEGIN:VEVENT
DTSTART;TZID=America/New_York:20260620T090000
DTEND;TZID=America/New_York:20260620T120000
DTSTAMP:20260421T082935
CREATED:20260331T124718Z
LAST-MODIFIED:20260331T124718Z
UID:881354-1781946000-1781956800@wmvo.com
SUMMARY:Mount Vernon Farmers Market
DESCRIPTION:MOUNT VERNON FARMERS MARKET IS BACK! \nGet ready to kick off your weekends the freshest way possible! The Mount Vernon Farmers Market returns May through October\, taking over the Public Square every Saturday from 9AM to Noon! \nStroll through downtown and discover farm-fresh fruits and veggies\, homemade goodies\, baked treats\, local honey\, artisan crafts\, and so much more—all straight from the hands that made them. \nThere’s nothing like the taste of local\, the vibe of community\, and the joy of supporting your hometown growers and makers. Bring the family\, grab a coffee\, and make it your new Saturday tradition! \nFresh Food\nLocal Flavor\nSmall-Town Charm \nMount Vernon Farmers Market – Saturdays\, May through October\, 9 to Noon at the Public Square. Don’t miss it!
URL:https://wmvo.com/event/mount-vernon-farmers-market-7/
LOCATION:Public Square of Mount Vernon\, Public Square\, Mt Vernon\, OH\, 43050\, United States
ORGANIZER;CN="Mount Vernon Farmers Market":MAILTO:farmersmarketmountvernon@gmail.com
END:VEVENT
BEGIN:VEVENT
DTSTART;TZID=America/New_York:20260620T100000
DTEND;TZID=America/New_York:20260620T150000
DTSTAMP:20260421T082935
CREATED:20260417T122335Z
LAST-MODIFIED:20260417T122335Z
UID:881988-1781949600-1781967600@wmvo.com
SUMMARY:THE HEART OF MOHICAN CAR SHOW
DESCRIPTION:CROWN JEWEL Collision Repair CenterFirst AnnualTHE HEART OF MOHICAN CAR SHOW \nDate:June 20th\, 2026 \nLocation:150 East First StreetPerrysville\, Ohio 44864 \nEvent Details: \n\nRain or Shine Event\n$5 Entry Fee\nRegistration: 10:00 AM – 12:00 PM\nAwards at 3:00 PM\nDash Plaques to First 150 Entries\n\nEntertainment & Activities: \n\nDoor Prizes\nDJ\nLive 1960s–70s Band (12:00 PM – 2:00 PM)\nFood Trucks\nRaffles\nSilent Auctions\n50/50 Drawing\nKid Games\n\nAwards: \n\nAwards to Top 75 Entries\nPlus 10 Special Awards\n\nMajor Sponsors: \n\nBill Harris Ford\nPleasant Hill Detailing LLC\n\nBenefiting:All proceeds benefit the Loudonville Perrysville Music Boosters \nAdditional Sponsor/Partner Mentioned: \n\nMohican Reservation (Home of the Mohican Pow-Wow – Not affiliated with any Indian Tribe)\n\nContact Info:For more information call: 567-303-4673
URL:https://wmvo.com/event/the-heart-of-mohican-car-show/
LOCATION:Downtown Perrysville\, 150 E First Street\, Perrysville\, OH\, 44864
END:VEVENT
BEGIN:VEVENT
DTSTART;TZID=America/New_York:20260627T090000
DTEND;TZID=America/New_York:20260627T120000
DTSTAMP:20260421T082935
CREATED:20260331T124827Z
LAST-MODIFIED:20260331T124827Z
UID:881356-1782550800-1782561600@wmvo.com
SUMMARY:Mount Vernon Farmers Market
DESCRIPTION:MOUNT VERNON FARMERS MARKET IS BACK! \nGet ready to kick off your weekends the freshest way possible! The Mount Vernon Farmers Market returns May through October\, taking over the Public Square every Saturday from 9AM to Noon! \nStroll through downtown and discover farm-fresh fruits and veggies\, homemade goodies\, baked treats\, local honey\, artisan crafts\, and so much more—all straight from the hands that made them. \nThere’s nothing like the taste of local\, the vibe of community\, and the joy of supporting your hometown growers and makers. Bring the family\, grab a coffee\, and make it your new Saturday tradition! \nFresh Food\nLocal Flavor\nSmall-Town Charm \nMount Vernon Farmers Market – Saturdays\, May through October\, 9 to Noon at the Public Square. Don’t miss it!
URL:https://wmvo.com/event/mount-vernon-farmers-market-8/
LOCATION:Public Square of Mount Vernon\, Public Square\, Mt Vernon\, OH\, 43050\, United States
ORGANIZER;CN="Mount Vernon Farmers Market":MAILTO:farmersmarketmountvernon@gmail.com
END:VEVENT
BEGIN:VEVENT
DTSTART;TZID=America/New_York:20260703T180000
DTEND;TZID=America/New_York:20260703T210000
DTSTAMP:20260421T082935
CREATED:20260331T155352Z
LAST-MODIFIED:20260331T155813Z
UID:881366-1783101600-1783112400@wmvo.com
SUMMARY:JULY FIRST FRIDAY: Party Like It’s 1776
DESCRIPTION:Celebrate the spirit of independence with a patriotic First Friday honoring America’s 250th anniversary. Red\, white\, and blue fun\, historic nods\, and all-American energy make this a star-spangled summer celebration. \nLive Music by Fat Tuesday | Food trucks sponsored by Ariel Corporation | Community Spotlight sponsored by United Aggregates and featuring the Mount Vernon Music & Arts Festival | 1776-themed photo booth sponsored by Knox Community Hospital | Activities Zone sponsored by Mount Vernon GMC and featuring MVNU Athletics\, Face painting\, archery\, and more! | Touch-a-Truck sponsored by and featuring United Aggregates
URL:https://wmvo.com/event/july-first-friday-party-like-its-1776/
LOCATION:Downtown Mount Vernon\, Mt Vernon\, 43050\, United States
ORGANIZER;CN="Experience Mount Vernon":MAILTO:director@experiencemv.org
END:VEVENT
BEGIN:VEVENT
DTSTART;TZID=America/New_York:20260716T180000
DTEND;TZID=America/New_York:20260716T210000
DTSTAMP:20260421T082935
CREATED:20260319T140528Z
LAST-MODIFIED:20260319T140528Z
UID:880905-1784224800-1784235600@wmvo.com
SUMMARY:Bike Night
DESCRIPTION:ITS ON !Help us raise money for the kids this Christmas at the The Salvation Army of Mount Vernon OHLive auctionBike night \, BAND \, Ice Cream\, Grindhouse Barbecue.still need sponsors (get on the tee-shirts) \, donations\, Auction Item donations etc etc etc GET INVOLVED NOW..Contact me or Event Coordinator Kevin Mishey !
URL:https://wmvo.com/event/bike-night-2/
LOCATION:Flapper’s Bar and Grille\, 15 W. High Street\, Mt Vernon\, OH\, 43050\, United States
ORGANIZER;CN="The Salvation Army of Mount Vernon OH":MAILTO:christine.moretz@use.salvationarmy.org
END:VEVENT
BEGIN:VEVENT
DTSTART;TZID=America/New_York:20260807T180000
DTEND;TZID=America/New_York:20260807T210000
DTSTAMP:20260421T082935
CREATED:20260331T155534Z
LAST-MODIFIED:20260331T155852Z
UID:881368-1786125600-1786136400@wmvo.com
SUMMARY:AUGUST FIRST FRIDAY: Paws on Parade
DESCRIPTION:It’s a tail-wagging good time downtown! Bring your four-legged friends for a dog-friendly First Friday featuring a dog costume parade\, pet-focused activities\, and plenty of treats for both pups and people. \nLive Music by the Serra Austen Band | Food trucks sponsored by Ariel Corporation | Community Spotlight sponsored by New Directions and featuring the WNZR Dog Costume Parade | Dog-themed photo booth sponsored by Knox Community Hospital | Activities Zone sponsored by Mount Vernon GMC and featuring MVNU Athletics\, balloon animals\, archery\, and more! | Touch-a-Truck sponsored by CES Credit Union and featuring MVPD & MVFD
URL:https://wmvo.com/event/august-first-friday-paws-on-parade/
LOCATION:Downtown Mount Vernon\, Mt Vernon\, 43050\, United States
ORGANIZER;CN="Experience Mount Vernon":MAILTO:director@experiencemv.org
END:VEVENT
BEGIN:VEVENT
DTSTART;TZID=America/New_York:20260904T180000
DTEND;TZID=America/New_York:20260904T210000
DTSTAMP:20260421T082935
CREATED:20260331T155655Z
LAST-MODIFIED:20260331T155734Z
UID:881370-1788544800-1788555600@wmvo.com
SUMMARY:SEPTEMBER FIRST FRIDAY: School Spirit Night
DESCRIPTION:SEPTEMBER FIRST FRIDAY: School Spirit Night\nShow your school pride as Downtown Mount Vernon turns into a community pep rally. Wear your school colors\, cheer on local students and educators\, and enjoy a back-to-school celebration full of spirit and hometown pride. \nLive Music by the RM201 | Food trucks sponsored by Ariel Corporation | Community Spotlight sponsored by and featuring the MTVarts Cast of The Wizard of Oz | School Spirit-themed photo booth sponsored by United Aggregates | Activities Zone sponsored by Mount Vernon GMC and featuring MVNU Athletics\, Face painting\, archery\, and more! | Touch-a-Truck sponsored by and featuring United Aggregates
URL:https://wmvo.com/event/september-first-friday-school-spirit-night/
LOCATION:Downtown Mount Vernon\, Mt Vernon\, 43050\, United States
ORGANIZER;CN="Experience Mount Vernon":MAILTO:director@experiencemv.org
END:VEVENT
END:VCALENDAR